BEGIN:VCALENDAR
VERSION:2.0
PRODID:icalendar-ruby
CALSCALE:GREGORIAN
METHOD:PUBLISH
BEGIN:VEVENT
DTSTAMP:20260424T101413Z
UID:3735d940-feb6-4539-9c9c-debb779fd820
DTSTART:20261127T120000
DTEND:20261203T000000
DESCRIPTION:<p><strong>Plett Rage is the ultimate summer destination where 
 school ends\, and the rest of your life begins.</strong></p><p>Every summe
 r\, young adults descend on Plettenberg Bay to celebrate the end of one ch
 apter and the start of another. Since 2000\, Plett Rage has been the rite 
 of passage for Matrics ready to step out of high school and into everythin
 g that comes next.</p><p><br></p><p>It’s more than a festival. It’s go
 lden sunsets on the beach\, nights that turn into stories\, friendships th
 at last long after the week is over\, and moments that stay with you forev
 er.</p><p>Join us in 2026 for a week-long celebration of iconic beach days
 \, unforgettable nights\, and once-in-a-lifetime experiences\, all set aga
 inst the stunning backdrop of Plettenberg Bay.</p><p>This is your freedom.
  This is your moment.</p><p><br></p><p><strong>We’ll see you in Plett.</
 strong></p><p><strong>27 Nov - 3 Dec (Checkout 4 Dec)</strong></p>
LOCATION:Central Beach\, Plettenberg Bay
SUMMARY:Plett Rage 2026
URL;VALUE=URI:https://plettrage.howler.co.za/plettrage26
END:VEVENT
END:VCALENDAR
